BEGIN:VCALENDAR
VERSION:2.0
PRODID:-//eventon.com NONSGML v1.0//EN
CALSCALE:GREGORIAN
METHOD:PUBLISH
BEGIN:VEVENT
UID:69e63e6ca6a34
DTSTAMP:20260420T145540Z
DTSTART:20241214
DTEND:20241215
LOCATION:
SUMMARY:Cours annulés : Basket ball
DESCRIPTION:Étant donné que le cours ne pourra pas être repris\,  nous v
 ous avons contacté par courriel. Si votre enfant est inscrit\,  nous vous 
 invitons à nous contacter pour demander un remboursement ou un crédit. &n
 bsp;\nhttps://loisirsbonpasteur.com/events/cours-annules-basket-ball/
URL:https://loisirsbonpasteur.com/events/cours-annules-basket-ball/
END:VEVENT
END:VCALENDAR