BEGIN:VCALENDAR
VERSION:2.0
PRODID:-//eventon.com NONSGML v1.0//EN
CALSCALE:GREGORIAN
METHOD:PUBLISH
BEGIN:VEVENT
UID:69e7326ccf935
DTSTAMP:20260421T081644Z
DTSTART:20241003
DTEND:20241004
LOCATION:
SUMMARY:Cours annulés: Djamboola
DESCRIPTION:Cours annulés: Djamboola\nhttps://loisirsbonpasteur.com/events
 /cours-annules-djamboola-2/
URL:https://loisirsbonpasteur.com/events/cours-annules-djamboola-2/
END:VEVENT
END:VCALENDAR